BEGIN:VCALENDAR
VERSION:2.0
PRODID:-//ElternStehenAuf - ECPv6.15.20//NONSGML v1.0//EN
CALSCALE:GREGORIAN
METHOD:PUBLISH
X-WR-CALNAME:ElternStehenAuf
X-ORIGINAL-URL:https://elternstehenauf.de
X-WR-CALDESC:Veranstaltungen für ElternStehenAuf
REFRESH-INTERVAL;VALUE=DURATION:PT1H
X-Robots-Tag:noindex
X-PUBLISHED-TTL:PT1H
BEGIN:VTIMEZONE
TZID:Europe/Paris
BEGIN:DAYLIGHT
TZOFFSETFROM:+0100
TZOFFSETTO:+0200
TZNAME:CEST
DTSTART:20230326T010000
END:DAYLIGHT
BEGIN:STANDARD
TZOFFSETFROM:+0200
TZOFFSETTO:+0100
TZNAME:CET
DTSTART:20231029T010000
END:STANDARD
BEGIN:DAYLIGHT
TZOFFSETFROM:+0100
TZOFFSETTO:+0200
TZNAME:CEST
DTSTART:20240331T010000
END:DAYLIGHT
BEGIN:STANDARD
TZOFFSETFROM:+0200
TZOFFSETTO:+0100
TZNAME:CET
DTSTART:20241027T010000
END:STANDARD
BEGIN:DAYLIGHT
TZOFFSETFROM:+0100
TZOFFSETTO:+0200
TZNAME:CEST
DTSTART:20250330T010000
END:DAYLIGHT
BEGIN:STANDARD
TZOFFSETFROM:+0200
TZOFFSETTO:+0100
TZNAME:CET
DTSTART:20251026T010000
END:STANDARD
END:VTIMEZONE
BEGIN:VEVENT
DTSTART;TZID=Europe/Paris:20241016T190000
DTEND;TZID=Europe/Paris:20241016T210000
DTSTAMP:20260423T124314
CREATED:20241013T214128Z
LAST-MODIFIED:20241013T220622Z
UID:20784-1729105200-1729112400@elternstehenauf.de
SUMMARY:Abiogene Erdgasentstehung und die Biosphäre der heißen Tiefe
DESCRIPTION:Vortrag: Abiogene Erdgasentstehung und die Biosphäre der heißen Tiefe\nMittwoch\, 16. Oktober um 19 Uhr\nPfungstadt\, Restaurant „Zur Tribüne“ (Dr.-Horst-Schmidt-Straße 16\, 64319 Pfungstadt)\nReferent: Dipl.-Chem. Dr. Christian Steidl\nWir brauchen wieder mehr echte Bildung in den Schulen und weniger indeologische Indoktrinierung. Mit diesem Vortrag wollen wir das staatliche Narrativ von den „fossilen Energieträgern“ korrigieren. Der Eintritt ist frei. \n \nPDF: Vortrag am 16.10.24 über Erdgasentstehung \nIn etwas kürzerer Version gibt es den Vortrag auf YouTube:\nhttps://youtu.be/TkpeeOjXUdo \nWelche anderen falschen Narrative\, die an Schulen verbreitet werden\, sind Euch aufgefallen? Schreibt uns an: christian.steidl@elternstehenauf.de. Danke für Eure Hinweise!
URL:https://elternstehenauf.de/termine/abiogene-erdgasentstehung-16okt2024/
LOCATION:Restaurant „Zur Tribüne“\, Dr.-Horst-Schmidt-Straße 16\,\, Pfungstadt\, 64319\, Germany
END:VEVENT
END:VCALENDAR